BEGIN:VCALENDAR
VERSION:2.0
PRODID:-//Ailsa Aitkenhead - ECPv6.15.20//NONSGML v1.0//EN
CALSCALE:GREGORIAN
METHOD:PUBLISH
X-WR-CALNAME:Ailsa Aitkenhead
X-ORIGINAL-URL:https://www.ailsaaitkenhead.com
X-WR-CALDESC:Events for Ailsa Aitkenhead
REFRESH-INTERVAL;VALUE=DURATION:PT1H
X-Robots-Tag:noindex
X-PUBLISHED-TTL:PT1H
BEGIN:VTIMEZONE
TZID:UTC
BEGIN:STANDARD
TZOFFSETFROM:+0000
TZOFFSETTO:+0000
TZNAME:UTC
DTSTART:20200101T000000
END:STANDARD
END:VTIMEZONE
BEGIN:VEVENT
DTSTART;TZID=UTC:20220925T180000
DTEND;TZID=UTC:20220925T180000
DTSTAMP:20260423T121437
CREATED:20250118T180205Z
LAST-MODIFIED:20250118T180516Z
UID:281-1664128800-1664128800@www.ailsaaitkenhead.com
SUMMARY:Mezzo-soprano and piano recital with Barbara Jones
DESCRIPTION:
URL:https://www.ailsaaitkenhead.com/event/mezzo-soprano-and-piano-recital-with-barbara-jones/
LOCATION:St Giles Cathedral\, High St\, Edinburgh\, EH1 1RE\, United Kingdom
END:VEVENT
BEGIN:VEVENT
DTSTART;TZID=UTC:20220907T193000
DTEND;TZID=UTC:20220907T213000
DTSTAMP:20260423T121437
CREATED:20250118T180609Z
LAST-MODIFIED:20250118T180609Z
UID:285-1662579000-1662586200@www.ailsaaitkenhead.com
SUMMARY:Best of Einaudi Solo Piano Recital
DESCRIPTION:
URL:https://www.ailsaaitkenhead.com/event/best-of-einaudi-solo-piano-recital-3/
LOCATION:St Mary’s Cathedral\, Palmerston Place\, Edinburgh
END:VEVENT
BEGIN:VEVENT
DTSTART;TZID=UTC:20220828T160000
DTEND;TZID=UTC:20220828T170000
DTSTAMP:20260423T121437
CREATED:20250118T180800Z
LAST-MODIFIED:20250118T180800Z
UID:287-1661702400-1661706000@www.ailsaaitkenhead.com
SUMMARY:Cello and Piano Recital with Stephen Laidlaw
DESCRIPTION:
URL:https://www.ailsaaitkenhead.com/event/cello-and-piano-recital-with-stephen-laidlaw/
LOCATION:Old High Church\, Church St\, Inverness\, IV1 1EY\, United Kingdom
END:VEVENT
BEGIN:VEVENT
DTSTART;TZID=UTC:20220825T143000
DTEND;TZID=UTC:20220825T153000
DTSTAMP:20260423T121437
CREATED:20250118T181113Z
LAST-MODIFIED:20250118T181113Z
UID:289-1661437800-1661441400@www.ailsaaitkenhead.com
SUMMARY:Cello and Piano Recital with Stephen Laidlaw
DESCRIPTION:
URL:https://www.ailsaaitkenhead.com/event/cello-and-piano-recital-with-stephen-laidlaw-2/
LOCATION:Marchmont St Giles church\, 3 Kilgraston Rd\, Edinburgh\, EH9 2DW\, United Kingdom
END:VEVENT
BEGIN:VEVENT
DTSTART;TZID=UTC:20220819T143000
DTEND;TZID=UTC:20220819T153000
DTSTAMP:20260423T121437
CREATED:20250118T182049Z
LAST-MODIFIED:20250118T182049Z
UID:291-1660919400-1660923000@www.ailsaaitkenhead.com
SUMMARY:Fantasy and Fairytales Solo Piano Recital
DESCRIPTION:
URL:https://www.ailsaaitkenhead.com/event/fantasy-and-fairytales-solo-piano-recital/
LOCATION:St Marks Artspace\, St Marks\, 7 Castle Terrace\, Edinburgh\, EH1 2DP
END:VEVENT
BEGIN:VEVENT
DTSTART;TZID=UTC:20220817T080000
DTEND;TZID=UTC:20220817T170000
DTSTAMP:20260423T121437
CREATED:20250118T182229Z
LAST-MODIFIED:20250118T182229Z
UID:296-1660723200-1660755600@www.ailsaaitkenhead.com
SUMMARY:Best of Einaudi solo piano recital
DESCRIPTION:
URL:https://www.ailsaaitkenhead.com/event/best-of-einaudi-solo-piano-recital-4/
LOCATION:St Marks Artspace\, St Marks\, 7 Castle Terrace\, Edinburgh\, EH1 2DP
END:VEVENT
BEGIN:VEVENT
DTSTART;TZID=UTC:20220809T200000
DTEND;TZID=UTC:20220809T210000
DTSTAMP:20260423T121437
CREATED:20250118T182314Z
LAST-MODIFIED:20250118T182314Z
UID:298-1660075200-1660078800@www.ailsaaitkenhead.com
SUMMARY:Flute and Piano Recital with Leila Marshall
DESCRIPTION:
URL:https://www.ailsaaitkenhead.com/event/flute-and-piano-recital-with-leila-marshall/
LOCATION:St Marks Artspace\, St Marks\, 7 Castle Terrace\, Edinburgh\, EH1 2DP
END:VEVENT
BEGIN:VEVENT
DTSTART;TZID=UTC:20220807T080000
DTEND;TZID=UTC:20220807T170000
DTSTAMP:20260423T121437
CREATED:20250118T182355Z
LAST-MODIFIED:20250118T182355Z
UID:300-1659859200-1659891600@www.ailsaaitkenhead.com
SUMMARY:Festivo Winds\, Poulenc Sextet for wind quintet and piano
DESCRIPTION:
URL:https://www.ailsaaitkenhead.com/event/festivo-winds-poulenc-sextet-for-wind-quintet-and-piano/
LOCATION:St Marks Artspace\, St Marks\, 7 Castle Terrace\, Edinburgh\, EH1 2DP
END:VEVENT
BEGIN:VEVENT
DTSTART;TZID=UTC:20220805T180000
DTEND;TZID=UTC:20220805T203000
DTSTAMP:20260423T121437
CREATED:20250118T182532Z
LAST-MODIFIED:20250118T182532Z
UID:304-1659722400-1659731400@www.ailsaaitkenhead.com
SUMMARY:Music of Fleetwood Mac for piano and violin
DESCRIPTION:
URL:https://www.ailsaaitkenhead.com/event/music-of-fleetwood-mac-for-piano-and-violin-5/
LOCATION:St Mary’s Cathedral\, Palmerston Place\, Edinburgh
END:VEVENT
BEGIN:VEVENT
DTSTART;TZID=UTC:20220727T190000
DTEND;TZID=UTC:20220727T210000
DTSTAMP:20260423T121437
CREATED:20250118T182734Z
LAST-MODIFIED:20250118T182734Z
UID:306-1658948400-1658955600@www.ailsaaitkenhead.com
SUMMARY:Fantasy and Fairytales Solo Piano Recital
DESCRIPTION:
URL:https://www.ailsaaitkenhead.com/event/fantasy-and-fairytales-solo-piano-recital-2/
LOCATION:Pianodrome\, 28 W Harbour Rd\, Edinburgh\, EH5 1PN
END:VEVENT
BEGIN:VEVENT
DTSTART;TZID=UTC:20220714T180000
DTEND;TZID=UTC:20220714T203000
DTSTAMP:20260423T121437
CREATED:20250118T183220Z
LAST-MODIFIED:20250118T183220Z
UID:310-1657821600-1657830600@www.ailsaaitkenhead.com
SUMMARY:Best of Einaudi Solo Piano Recital
DESCRIPTION:
URL:https://www.ailsaaitkenhead.com/event/best-of-einaudi-solo-piano-recital-5/
LOCATION:Trades Hall Of Glasgow\, 85 Glassford Street\, Glasgow\, G1 1UH
END:VEVENT
BEGIN:VEVENT
DTSTART;TZID=UTC:20220713T193000
DTEND;TZID=UTC:20220713T213000
DTSTAMP:20260423T121437
CREATED:20250118T183449Z
LAST-MODIFIED:20250118T183449Z
UID:313-1657740600-1657747800@www.ailsaaitkenhead.com
SUMMARY:Best of Einaudi Solo Piano Recital
DESCRIPTION:
URL:https://www.ailsaaitkenhead.com/event/best-of-einaudi-solo-piano-recital-6/
LOCATION:St Mary’s Cathedral\, Palmerston Place\, Edinburgh
END:VEVENT
BEGIN:VEVENT
DTSTART;TZID=UTC:20220629T180000
DTEND;TZID=UTC:20220629T203000
DTSTAMP:20260423T121437
CREATED:20250118T183547Z
LAST-MODIFIED:20250118T183547Z
UID:315-1656525600-1656534600@www.ailsaaitkenhead.com
SUMMARY:Best Of Einaudi Solo Piano Recital
DESCRIPTION:
URL:https://www.ailsaaitkenhead.com/event/best-of-einaudi-solo-piano-recital-7/
LOCATION:Trades Hall Of Glasgow\, 85 Glassford Street\, Glasgow\, G1 1UH
END:VEVENT
BEGIN:VEVENT
DTSTART;TZID=UTC:20220609T193000
DTEND;TZID=UTC:20220609T203000
DTSTAMP:20260423T121437
CREATED:20250118T183645Z
LAST-MODIFIED:20250118T183645Z
UID:317-1654803000-1654806600@www.ailsaaitkenhead.com
SUMMARY:Pentland Singers
DESCRIPTION:
URL:https://www.ailsaaitkenhead.com/event/pentland-singers-4/
LOCATION:Balerno Parish Church\, 2 Main St\, Balerno\, EH14 7EH\, United Kingdom
END:VEVENT
BEGIN:VEVENT
DTSTART;TZID=UTC:20220608T193000
DTEND;TZID=UTC:20220608T203000
DTSTAMP:20260423T121437
CREATED:20250118T183729Z
LAST-MODIFIED:20250118T183729Z
UID:319-1654716600-1654720200@www.ailsaaitkenhead.com
SUMMARY:Pentland Singers
DESCRIPTION:
URL:https://www.ailsaaitkenhead.com/event/pentland-singers-5/
LOCATION:Balerno Parish Church\, 2 Main St\, Balerno\, EH14 7EH\, United Kingdom
END:VEVENT
BEGIN:VEVENT
DTSTART;VALUE=DATE:20220527
DTEND;VALUE=DATE:20220528
DTSTAMP:20260423T121437
CREATED:20250118T184128Z
LAST-MODIFIED:20250118T184128Z
UID:321-1653609600-1653695999@www.ailsaaitkenhead.com
SUMMARY:Traquair Choir
DESCRIPTION:
URL:https://www.ailsaaitkenhead.com/event/traquair-choir/
LOCATION:Scottish Borders\, Springwood Park\, Kelso\, TD5 8LS
END:VEVENT
BEGIN:VEVENT
DTSTART;TZID=UTC:20220516T190000
DTEND;TZID=UTC:20220516T200000
DTSTAMP:20260423T121437
CREATED:20250118T184645Z
LAST-MODIFIED:20250118T184645Z
UID:324-1652727600-1652731200@www.ailsaaitkenhead.com
SUMMARY:Marriage of Figaro with Three Bridges Opera
DESCRIPTION:
URL:https://www.ailsaaitkenhead.com/event/marriage-of-figaro-with-three-bridges-opera/
LOCATION:Castlandhill House\, 16 Bernard Terrace\, Newington\, Edinburgh\, EH8 9NX\, United Kingdom
END:VEVENT
BEGIN:VEVENT
DTSTART;TZID=UTC:20220515T190000
DTEND;TZID=UTC:20220515T200000
DTSTAMP:20260423T121437
CREATED:20250118T184916Z
LAST-MODIFIED:20250118T184916Z
UID:327-1652641200-1652644800@www.ailsaaitkenhead.com
SUMMARY:Marriage of Figaro with Three Bridges Opera
DESCRIPTION:
URL:https://www.ailsaaitkenhead.com/event/marriage-of-figaro-with-three-bridges-opera-2/
LOCATION:Castlandhill House\, 16 Bernard Terrace\, Newington\, Edinburgh\, EH8 9NX\, United Kingdom
END:VEVENT
BEGIN:VEVENT
DTSTART;TZID=UTC:20220514T190000
DTEND;TZID=UTC:20220514T200000
DTSTAMP:20260423T121437
CREATED:20250118T184939Z
LAST-MODIFIED:20250118T184939Z
UID:329-1652554800-1652558400@www.ailsaaitkenhead.com
SUMMARY:Marriage of Figaro with Three Bridges Opera
DESCRIPTION:
URL:https://www.ailsaaitkenhead.com/event/marriage-of-figaro-with-three-bridges-opera-3/
LOCATION:Castlandhill House\, 16 Bernard Terrace\, Newington\, Edinburgh\, EH8 9NX\, United Kingdom
END:VEVENT
BEGIN:VEVENT
DTSTART;TZID=UTC:20220511T180000
DTEND;TZID=UTC:20220511T203000
DTSTAMP:20260423T121437
CREATED:20250118T185239Z
LAST-MODIFIED:20250118T185239Z
UID:331-1652292000-1652301000@www.ailsaaitkenhead.com
SUMMARY:Best of Einaudi Solo Piano Recital
DESCRIPTION:
URL:https://www.ailsaaitkenhead.com/event/best-of-einaudi-solo-piano-recital-8/
LOCATION:Trades Hall Of Glasgow\, 85 Glassford Street\, Glasgow\, G1 1UH
END:VEVENT
BEGIN:VEVENT
DTSTART;TZID=UTC:20220424T180000
DTEND;TZID=UTC:20220424T190000
DTSTAMP:20260423T121437
CREATED:20250118T185333Z
LAST-MODIFIED:20250118T185333Z
UID:333-1650823200-1650826800@www.ailsaaitkenhead.com
SUMMARY:Fantasy and Fairytales Solo Piano Recital
DESCRIPTION:
URL:https://www.ailsaaitkenhead.com/event/fantasy-and-fairytales-solo-piano-recital-3/
LOCATION:St Giles Cathedral\, High St\, Edinburgh\, EH1 1RE\, United Kingdom
END:VEVENT
BEGIN:VEVENT
DTSTART;TZID=UTC:20220330T180000
DTEND;TZID=UTC:20220330T203000
DTSTAMP:20260423T121437
CREATED:20250118T185630Z
LAST-MODIFIED:20250118T185630Z
UID:335-1648663200-1648672200@www.ailsaaitkenhead.com
SUMMARY:Best of Einaudi Solo Piano Recital
DESCRIPTION:
URL:https://www.ailsaaitkenhead.com/event/best-of-einaudi-solo-piano-recital-9/
LOCATION:Trades Hall Of Glasgow\, 85 Glassford Street\, Glasgow\, G1 1UH
END:VEVENT
BEGIN:VEVENT
DTSTART;TZID=UTC:20220329T180000
DTEND;TZID=UTC:20220329T203000
DTSTAMP:20260423T121437
CREATED:20250118T185759Z
LAST-MODIFIED:20250118T185759Z
UID:337-1648576800-1648585800@www.ailsaaitkenhead.com
SUMMARY:Music of Adele\, with Joanna Stark cellist
DESCRIPTION:
URL:https://www.ailsaaitkenhead.com/event/music-of-adele-with-joanna-stark-cellist/
LOCATION:Òran Mór\, Byres Rd\, Glasgow\, G12 8QX\, United Kingdom
END:VEVENT
BEGIN:VEVENT
DTSTART;TZID=UTC:20220224T180000
DTEND;TZID=UTC:20220224T203000
DTSTAMP:20260423T121437
CREATED:20250118T185859Z
LAST-MODIFIED:20250118T185859Z
UID:339-1645725600-1645734600@www.ailsaaitkenhead.com
SUMMARY:Best of Einaudi Solo Piano Recital
DESCRIPTION:
URL:https://www.ailsaaitkenhead.com/event/best-of-einaudi-solo-piano-recital-10/
LOCATION:Trades Hall Of Glasgow\, 85 Glassford Street\, Glasgow\, G1 1UH
END:VEVENT
BEGIN:VEVENT
DTSTART;TZID=UTC:20211209T193000
DTEND;TZID=UTC:20211209T203000
DTSTAMP:20260423T121437
CREATED:20250118T154229Z
LAST-MODIFIED:20250118T154229Z
UID:253-1639078200-1639081800@www.ailsaaitkenhead.com
SUMMARY:Pentland Singers
DESCRIPTION:
URL:https://www.ailsaaitkenhead.com/event/pentland-singers-2/
LOCATION:Balerno Parish Church\, 2 Main St\, Balerno\, EH14 7EH\, United Kingdom
END:VEVENT
BEGIN:VEVENT
DTSTART;TZID=UTC:20211208T193000
DTEND;TZID=UTC:20211208T203000
DTSTAMP:20260423T121437
CREATED:20250118T154136Z
LAST-MODIFIED:20250118T154136Z
UID:250-1638991800-1638995400@www.ailsaaitkenhead.com
SUMMARY:Pentland Singers
DESCRIPTION:
URL:https://www.ailsaaitkenhead.com/event/pentland-singers/
LOCATION:Balerno Parish Church\, 2 Main St\, Balerno\, EH14 7EH\, United Kingdom
END:VEVENT
BEGIN:VEVENT
DTSTART;TZID=UTC:20211207T193000
DTEND;TZID=UTC:20211207T203000
DTSTAMP:20260423T121437
CREATED:20250118T154600Z
LAST-MODIFIED:20250118T154600Z
UID:260-1638905400-1638909000@www.ailsaaitkenhead.com
SUMMARY:Pentland Singers
DESCRIPTION:
URL:https://www.ailsaaitkenhead.com/event/pentland-singers-3/
LOCATION:Balerno Parish Church\, 2 Main St\, Balerno\, EH14 7EH\, United Kingdom
END:VEVENT
BEGIN:VEVENT
DTSTART;TZID=UTC:20211204T193000
DTEND;TZID=UTC:20211204T203000
DTSTAMP:20260423T121437
CREATED:20250118T153938Z
LAST-MODIFIED:20250118T153938Z
UID:248-1638646200-1638649800@www.ailsaaitkenhead.com
SUMMARY:Stirling University Choir
DESCRIPTION:
URL:https://www.ailsaaitkenhead.com/event/stirling-university-choir/
LOCATION:Holy Trinity Church\, 6 Albert Pl\, Stirling\, FK8 2RG
END:VEVENT
BEGIN:VEVENT
DTSTART;TZID=UTC:20211105T130000
DTEND;TZID=UTC:20211105T150000
DTSTAMP:20260423T121437
CREATED:20250118T153835Z
LAST-MODIFIED:20250118T153835Z
UID:245-1636117200-1636124400@www.ailsaaitkenhead.com
SUMMARY:Clarinet and PIano Recital with Jean Johnson
DESCRIPTION:
URL:https://www.ailsaaitkenhead.com/event/clarinet-and-piano-recital-with-jean-johnson/
LOCATION:Stockbridge Parish Church\, 7b Saxe Coburg St\, Edinburgh\, EH3 5BN\, United Kingdom
END:VEVENT
BEGIN:VEVENT
DTSTART;TZID=UTC:20211025T180000
DTEND;TZID=UTC:20211025T203000
DTSTAMP:20260423T121437
CREATED:20250118T145619Z
LAST-MODIFIED:20250118T145619Z
UID:240-1635184800-1635193800@www.ailsaaitkenhead.com
SUMMARY:Best of Einaudi Solo Piano Recital
DESCRIPTION:
URL:https://www.ailsaaitkenhead.com/event/best-of-einaudi-solo-piano-recital/
LOCATION:Platform\, 253 Argyle St\, Glasgow\, G2 8DL\, United Kingdom
END:VEVENT
END:VCALENDAR