BEGIN:VCALENDAR
VERSION:2.0
PRODID:-//Ailsa Aitkenhead - ECPv6.15.20//NONSGML v1.0//EN
CALSCALE:GREGORIAN
METHOD:PUBLISH
X-ORIGINAL-URL:https://www.ailsaaitkenhead.com
X-WR-CALDESC:Events for Ailsa Aitkenhead
REFRESH-INTERVAL;VALUE=DURATION:PT1H
X-Robots-Tag:noindex
X-PUBLISHED-TTL:PT1H
BEGIN:VTIMEZONE
TZID:UTC
BEGIN:STANDARD
TZOFFSETFROM:+0000
TZOFFSETTO:+0000
TZNAME:UTC
DTSTART:20210101T000000
END:STANDARD
END:VTIMEZONE
BEGIN:VEVENT
DTSTART;TZID=UTC:20230815T203000
DTEND;TZID=UTC:20230815T213000
DTSTAMP:20260423T092423
CREATED:20250118T191721Z
LAST-MODIFIED:20250118T191721Z
UID:361-1692131400-1692135000@www.ailsaaitkenhead.com
SUMMARY:Solo Piano Recital
DESCRIPTION:
URL:https://www.ailsaaitkenhead.com/event/solo-piano-recital-2/
LOCATION:St Marks Unitarian Church\, 7 Castle Terrace\,\, Edinburgh\, EH1 2DP\, United Kingdom
END:VEVENT
BEGIN:VEVENT
DTSTART;TZID=UTC:20230812T143000
DTEND;TZID=UTC:20230812T153000
DTSTAMP:20260423T092423
CREATED:20250118T191844Z
LAST-MODIFIED:20250118T191844Z
UID:363-1691850600-1691854200@www.ailsaaitkenhead.com
SUMMARY:Flute and Piano Recital\, with Leila Marshall
DESCRIPTION:
URL:https://www.ailsaaitkenhead.com/event/flute-and-piano-recital-with-leila-marshall-2/
LOCATION:St Marks Unitarian Church\, 7 Castle Terrace\,\, Edinburgh\, EH1 2DP\, United Kingdom
END:VEVENT
BEGIN:VEVENT
DTSTART;TZID=UTC:20230810T203000
DTEND;TZID=UTC:20230810T213000
DTSTAMP:20260423T092423
CREATED:20250118T191946Z
LAST-MODIFIED:20250118T191946Z
UID:366-1691699400-1691703000@www.ailsaaitkenhead.com
SUMMARY:Solo Piano recital
DESCRIPTION:
URL:https://www.ailsaaitkenhead.com/event/solo-piano-recital-3/
LOCATION:St Marks Unitarian Church\, 7 Castle Terrace\,\, Edinburgh\, EH1 2DP\, United Kingdom
END:VEVENT
BEGIN:VEVENT
DTSTART;TZID=UTC:20230805T143000
DTEND;TZID=UTC:20230805T153000
DTSTAMP:20260423T092423
CREATED:20250118T192040Z
LAST-MODIFIED:20250118T192040Z
UID:369-1691245800-1691249400@www.ailsaaitkenhead.com
SUMMARY:Solo piano recital
DESCRIPTION:
URL:https://www.ailsaaitkenhead.com/event/solo-piano-recital-4/
LOCATION:Marchmont St Giles church\, 3 Kilgraston Rd\, Edinburgh\, EH9 2DW\, United Kingdom
END:VEVENT
BEGIN:VEVENT
DTSTART;TZID=UTC:20230630T190000
DTEND;TZID=UTC:20230630T200000
DTSTAMP:20260423T092423
CREATED:20250118T192259Z
LAST-MODIFIED:20250118T192331Z
UID:371-1688151600-1688155200@www.ailsaaitkenhead.com
SUMMARY:A recital of French song\, with Caroline Beltra soprano
DESCRIPTION:
URL:https://www.ailsaaitkenhead.com/event/a-recital-of-french-song-with-caroline-beltra-soprano/
LOCATION:French Institute of Scotland\, W Parliament Sq\, Edinburgh\, EH1 1RN
END:VEVENT
BEGIN:VEVENT
DTSTART;TZID=UTC:20230616T190000
DTEND;TZID=UTC:20230616T200000
DTSTAMP:20260423T092423
CREATED:20250118T192633Z
LAST-MODIFIED:20250118T192633Z
UID:376-1686942000-1686945600@www.ailsaaitkenhead.com
SUMMARY:A recital of French piano music
DESCRIPTION:
URL:https://www.ailsaaitkenhead.com/event/a-recital-of-french-piano-music/
LOCATION:French Institute of Scotland\, W Parliament Sq\, Edinburgh\, EH1 1RN
END:VEVENT
BEGIN:VEVENT
DTSTART;TZID=UTC:20230608T193000
DTEND;TZID=UTC:20230608T203000
DTSTAMP:20260423T092423
CREATED:20250118T193334Z
LAST-MODIFIED:20250118T193334Z
UID:383-1686252600-1686256200@www.ailsaaitkenhead.com
SUMMARY:Pentland Singers Summer Concert
DESCRIPTION:
URL:https://www.ailsaaitkenhead.com/event/pentland-singers-summer-concert/
LOCATION:Balerno High School\, 5 Bridge Rd\, Balerno\, Edinburgh\, EH14 7AQ
END:VEVENT
BEGIN:VEVENT
DTSTART;TZID=UTC:20230607T193000
DTEND;TZID=UTC:20230607T203000
DTSTAMP:20260423T092423
CREATED:20250118T193518Z
LAST-MODIFIED:20250118T193518Z
UID:385-1686166200-1686169800@www.ailsaaitkenhead.com
SUMMARY:Pentland Singers Summer Concert
DESCRIPTION:
URL:https://www.ailsaaitkenhead.com/event/pentland-singers-summer-concert-2/
LOCATION:Balerno High School\, 5 Bridge Rd\, Balerno\, Edinburgh\, EH14 7AQ
END:VEVENT
BEGIN:VEVENT
DTSTART;TZID=UTC:20230414T190000
DTEND;TZID=UTC:20230414T213000
DTSTAMP:20260423T092423
CREATED:20250118T193748Z
LAST-MODIFIED:20250118T193748Z
UID:387-1681498800-1681507800@www.ailsaaitkenhead.com
SUMMARY:A Tribute to Einaudi
DESCRIPTION:
URL:https://www.ailsaaitkenhead.com/event/a-tribute-to-einaudi-3/
LOCATION:St Mary’s Cathedral\, Palmerston Place\, Edinburgh
END:VEVENT
BEGIN:VEVENT
DTSTART;TZID=UTC:20230312T180000
DTEND;TZID=UTC:20230312T190000
DTSTAMP:20260423T092423
CREATED:20250118T193944Z
LAST-MODIFIED:20250118T193944Z
UID:389-1678644000-1678647600@www.ailsaaitkenhead.com
SUMMARY:Pentland Singers Choir Spring Concert
DESCRIPTION:
URL:https://www.ailsaaitkenhead.com/event/pentland-singers-choir-spring-concert/
LOCATION:St Giles Cathedral\, High St\, Edinburgh\, EH1 1RE\, United Kingdom
END:VEVENT
BEGIN:VEVENT
DTSTART;TZID=UTC:20230310T193000
DTEND;TZID=UTC:20230310T213000
DTSTAMP:20260423T092423
CREATED:20250118T194929Z
LAST-MODIFIED:20250118T195242Z
UID:391-1678476600-1678483800@www.ailsaaitkenhead.com
SUMMARY:A Tribute to Fleetwood Mac\, violin and piano recital
DESCRIPTION:
URL:https://www.ailsaaitkenhead.com/event/a-tribute-to-fleetwood-mac-violin-and-piano-recital/
LOCATION:Palmerston Place\, 1 Palmerston Place\, Edinburgh\, EH12 5AF
END:VEVENT
BEGIN:VEVENT
DTSTART;TZID=UTC:20230308T180000
DTEND;TZID=UTC:20230308T203000
DTSTAMP:20260423T092423
CREATED:20250118T195417Z
LAST-MODIFIED:20250118T195417Z
UID:395-1678298400-1678307400@www.ailsaaitkenhead.com
SUMMARY:A Tribute to Fleetwood Mac\, violin and piano recital
DESCRIPTION:
URL:https://www.ailsaaitkenhead.com/event/a-tribute-to-fleetwood-mac-violin-and-piano-recital-2/
LOCATION:Òran Mór\, Byres Rd\, Glasgow\, G12 8QX\, United Kingdom
END:VEVENT
BEGIN:VEVENT
DTSTART;VALUE=DATE:20230227
DTEND;VALUE=DATE:20230228
DTSTAMP:20260423T092423
CREATED:20250118T195816Z
LAST-MODIFIED:20250118T195816Z
UID:397-1677456000-1677542399@www.ailsaaitkenhead.com
SUMMARY:Once Upon a Tune with RSNO (orchestral celesta)
DESCRIPTION:
URL:https://www.ailsaaitkenhead.com/event/once-upon-a-tune-with-rsno-orchestral-celesta/
LOCATION:Eden Court\, Bishops Rd\, Inverness\, IV3 5SA
END:VEVENT
BEGIN:VEVENT
DTSTART;TZID=UTC:20230208T193000
DTEND;TZID=UTC:20230208T213000
DTSTAMP:20260423T092423
CREATED:20250118T195912Z
LAST-MODIFIED:20250118T195912Z
UID:400-1675884600-1675891800@www.ailsaaitkenhead.com
SUMMARY:A Tribute to Einaudi\, piano solo recital
DESCRIPTION:
URL:https://www.ailsaaitkenhead.com/event/a-tribute-to-einaudi-piano-solo-recital/
LOCATION:St Mary’s Cathedral\, Palmerston Place\, Edinburgh
END:VEVENT
BEGIN:VEVENT
DTSTART;TZID=UTC:20230125T193000
DTEND;TZID=UTC:20230125T213000
DTSTAMP:20260423T092423
CREATED:20250118T200121Z
LAST-MODIFIED:20250118T200121Z
UID:402-1674675000-1674682200@www.ailsaaitkenhead.com
SUMMARY:A Tribute to Fleetwood Mac\, violin and piano recital
DESCRIPTION:
URL:https://www.ailsaaitkenhead.com/event/a-tribute-to-fleetwood-mac-violin-and-piano-recital-3/
LOCATION:St Mary’s Cathedral\, Palmerston Place\, Edinburgh
END:VEVENT
BEGIN:VEVENT
DTSTART;VALUE=DATE:20221214
DTEND;VALUE=DATE:20221215
DTSTAMP:20260423T092423
CREATED:20250118T154309Z
LAST-MODIFIED:20250118T154309Z
UID:255-1670976000-1671062399@www.ailsaaitkenhead.com
SUMMARY:SPS choir carol concert
DESCRIPTION:
URL:https://www.ailsaaitkenhead.com/event/sps-choir-carol-concert/
END:VEVENT
BEGIN:VEVENT
DTSTART;TZID=UTC:20221208T190000
DTEND;TZID=UTC:20221208T200000
DTSTAMP:20260423T092423
CREATED:20250118T154524Z
LAST-MODIFIED:20250118T154524Z
UID:257-1670526000-1670529600@www.ailsaaitkenhead.com
SUMMARY:Pentland Singers Choir Christmas Concert
DESCRIPTION:
URL:https://www.ailsaaitkenhead.com/event/pentland-singers-choir-christmas-concert/
LOCATION:Balerno High School\, 5 Bridge Rd\, Balerno\, Edinburgh\, EH14 7AQ
END:VEVENT
BEGIN:VEVENT
DTSTART;TZID=UTC:20221203T190000
DTEND;TZID=UTC:20221203T200000
DTSTAMP:20260423T092423
CREATED:20250118T154737Z
LAST-MODIFIED:20250118T154737Z
UID:262-1670094000-1670097600@www.ailsaaitkenhead.com
SUMMARY:Stirling University Choir Christmas Concert
DESCRIPTION:
URL:https://www.ailsaaitkenhead.com/event/stirling-university-choir-christmas-concert/
LOCATION:Church of the Holy Rude\, St John St\, Stirling\, FK8 1ED
END:VEVENT
BEGIN:VEVENT
DTSTART;TZID=UTC:20221129T180000
DTEND;TZID=UTC:20221129T213000
DTSTAMP:20260423T092423
CREATED:20250118T174227Z
LAST-MODIFIED:20250118T174227Z
UID:266-1669744800-1669757400@www.ailsaaitkenhead.com
SUMMARY:Music of Coldplay for piano and cello
DESCRIPTION:
URL:https://www.ailsaaitkenhead.com/event/music-of-coldplay-for-piano-and-cello/
LOCATION:Òran Mór\, Byres Rd\, Glasgow\, G12 8QX\, United Kingdom
END:VEVENT
BEGIN:VEVENT
DTSTART;TZID=UTC:20221125T193000
DTEND;TZID=UTC:20221125T213000
DTSTAMP:20260423T092423
CREATED:20250118T174332Z
LAST-MODIFIED:20250118T174332Z
UID:269-1669404600-1669411800@www.ailsaaitkenhead.com
SUMMARY:Music of Fleetwood Mac for piano and violin
DESCRIPTION:
URL:https://www.ailsaaitkenhead.com/event/music-of-fleetwood-mac-for-piano-and-violin/
LOCATION:St Mary’s Cathedral\, Palmerston Place\, Edinburgh
END:VEVENT
BEGIN:VEVENT
DTSTART;TZID=UTC:20221116T180000
DTEND;TZID=UTC:20221116T203000
DTSTAMP:20260423T092423
CREATED:20250118T174425Z
LAST-MODIFIED:20250118T174425Z
UID:271-1668621600-1668630600@www.ailsaaitkenhead.com
SUMMARY:Music of Fleetwood Mac for piano and violin
DESCRIPTION:
URL:https://www.ailsaaitkenhead.com/event/music-of-fleetwood-mac-for-piano-and-violin-2/
LOCATION:Òran Mór\, Byres Rd\, Glasgow\, G12 8QX\, United Kingdom
END:VEVENT
BEGIN:VEVENT
DTSTART;TZID=UTC:20221109T193000
DTEND;TZID=UTC:20221109T213000
DTSTAMP:20260423T092423
CREATED:20250118T174502Z
LAST-MODIFIED:20250118T174502Z
UID:273-1668022200-1668029400@www.ailsaaitkenhead.com
SUMMARY:Best of Einaudi Solo Piano Recital
DESCRIPTION:
URL:https://www.ailsaaitkenhead.com/event/best-of-einaudi-solo-piano-recital-2/
LOCATION:St Mary’s Cathedral\, Palmerston Place\, Edinburgh
END:VEVENT
BEGIN:VEVENT
DTSTART;TZID=UTC:20221026T180000
DTEND;TZID=UTC:20221026T203000
DTSTAMP:20260423T092423
CREATED:20250118T174553Z
LAST-MODIFIED:20250118T174553Z
UID:275-1666807200-1666816200@www.ailsaaitkenhead.com
SUMMARY:Music of Fleetwood Mac for piano and violin
DESCRIPTION:
URL:https://www.ailsaaitkenhead.com/event/music-of-fleetwood-mac-for-piano-and-violin-3/
LOCATION:St Mary’s Cathedral\, Palmerston Place\, Edinburgh
END:VEVENT
BEGIN:VEVENT
DTSTART;TZID=UTC:20221012T180000
DTEND;TZID=UTC:20221012T203000
DTSTAMP:20260423T092423
CREATED:20250118T175650Z
LAST-MODIFIED:20250118T175650Z
UID:277-1665597600-1665606600@www.ailsaaitkenhead.com
SUMMARY:Music of Fleetwood Mac for piano and violin
DESCRIPTION:
URL:https://www.ailsaaitkenhead.com/event/music-of-fleetwood-mac-for-piano-and-violin-4/
LOCATION:Òran Mór\, Byres Rd\, Glasgow\, G12 8QX\, United Kingdom
END:VEVENT
BEGIN:VEVENT
DTSTART;TZID=UTC:20220925T180000
DTEND;TZID=UTC:20220925T180000
DTSTAMP:20260423T092423
CREATED:20250118T180205Z
LAST-MODIFIED:20250118T180516Z
UID:281-1664128800-1664128800@www.ailsaaitkenhead.com
SUMMARY:Mezzo-soprano and piano recital with Barbara Jones
DESCRIPTION:
URL:https://www.ailsaaitkenhead.com/event/mezzo-soprano-and-piano-recital-with-barbara-jones/
LOCATION:St Giles Cathedral\, High St\, Edinburgh\, EH1 1RE\, United Kingdom
END:VEVENT
BEGIN:VEVENT
DTSTART;TZID=UTC:20220907T193000
DTEND;TZID=UTC:20220907T213000
DTSTAMP:20260423T092423
CREATED:20250118T180609Z
LAST-MODIFIED:20250118T180609Z
UID:285-1662579000-1662586200@www.ailsaaitkenhead.com
SUMMARY:Best of Einaudi Solo Piano Recital
DESCRIPTION:
URL:https://www.ailsaaitkenhead.com/event/best-of-einaudi-solo-piano-recital-3/
LOCATION:St Mary’s Cathedral\, Palmerston Place\, Edinburgh
END:VEVENT
BEGIN:VEVENT
DTSTART;TZID=UTC:20220828T160000
DTEND;TZID=UTC:20220828T170000
DTSTAMP:20260423T092423
CREATED:20250118T180800Z
LAST-MODIFIED:20250118T180800Z
UID:287-1661702400-1661706000@www.ailsaaitkenhead.com
SUMMARY:Cello and Piano Recital with Stephen Laidlaw
DESCRIPTION:
URL:https://www.ailsaaitkenhead.com/event/cello-and-piano-recital-with-stephen-laidlaw/
LOCATION:Old High Church\, Church St\, Inverness\, IV1 1EY\, United Kingdom
END:VEVENT
BEGIN:VEVENT
DTSTART;TZID=UTC:20220825T143000
DTEND;TZID=UTC:20220825T153000
DTSTAMP:20260423T092423
CREATED:20250118T181113Z
LAST-MODIFIED:20250118T181113Z
UID:289-1661437800-1661441400@www.ailsaaitkenhead.com
SUMMARY:Cello and Piano Recital with Stephen Laidlaw
DESCRIPTION:
URL:https://www.ailsaaitkenhead.com/event/cello-and-piano-recital-with-stephen-laidlaw-2/
LOCATION:Marchmont St Giles church\, 3 Kilgraston Rd\, Edinburgh\, EH9 2DW\, United Kingdom
END:VEVENT
BEGIN:VEVENT
DTSTART;TZID=UTC:20220819T143000
DTEND;TZID=UTC:20220819T153000
DTSTAMP:20260423T092423
CREATED:20250118T182049Z
LAST-MODIFIED:20250118T182049Z
UID:291-1660919400-1660923000@www.ailsaaitkenhead.com
SUMMARY:Fantasy and Fairytales Solo Piano Recital
DESCRIPTION:
URL:https://www.ailsaaitkenhead.com/event/fantasy-and-fairytales-solo-piano-recital/
LOCATION:St Marks Artspace\, St Marks\, 7 Castle Terrace\, Edinburgh\, EH1 2DP
END:VEVENT
BEGIN:VEVENT
DTSTART;TZID=UTC:20220817T080000
DTEND;TZID=UTC:20220817T170000
DTSTAMP:20260423T092423
CREATED:20250118T182229Z
LAST-MODIFIED:20250118T182229Z
UID:296-1660723200-1660755600@www.ailsaaitkenhead.com
SUMMARY:Best of Einaudi solo piano recital
DESCRIPTION:
URL:https://www.ailsaaitkenhead.com/event/best-of-einaudi-solo-piano-recital-4/
LOCATION:St Marks Artspace\, St Marks\, 7 Castle Terrace\, Edinburgh\, EH1 2DP
END:VEVENT
END:VCALENDAR